BEGIN:VCALENDAR
VERSION:2.0
PRODID:-//ChamberMaster//Event Calendar 2.0//EN
METHOD:PUBLISH
X-PUBLISHED-TTL:P3D
REFRESH-INTERVAL:P3D
CALSCALE:GREGORIAN
BEGIN:VEVENT
DTSTART:20250526T123000Z
DTEND:20250526T150000Z
X-MICROSOFT-CDO-ALLDAYEVENT:FALSE
SUMMARY:MURPH 2025 - Anytime Fitness Crown Point
DESCRIPTION:The Murph Challenge 2025\n\nMemorial Day | May 26th | 7:30 AM\n\nHosted at Anytime Fitness Crown Point\n\nJoin us this Memorial Day for The Murph Challenge\, a powerful workout honoring the legacy of LT. Michael P. Murphy\, a Navy SEAL and Medal of Honor recipient. This annual event is a meaningful way to challenge yourself and pay tribute to those who made the ultimate sacrifice.\n\nThe Workout Includes:\n\n  1 Mile Run\n\n  100 Pull-Ups\n\n  200 Push-Ups\n\n  300 Squats\n\n  1 Mile Run\n\n(wearing a 20 lb vest)\n\nThis is a free community event\, open to all fitness levels with modification options available. No registration is required to participate.\n\nWant to support the cause?\n\nRegister online to receive an official Murph Challenge t-shirt proceeds benefit the LT. Michael P. Murphy Memorial Scholarship Foundation.\n\nLocation:\n\nAnytime Fitness Crown Point\n\n10645 Broadway\, Crown Point\, IN 46307\n\n?? 219.662.2818
X-ALT-DESC;FMTTYPE=text/html:<p><strong>The Murph Challenge 2025</strong><br />\n<strong>Memorial Day | May 26th | 7:30 AM</strong><br />\n<strong>Hosted at Anytime Fitness Crown Point</strong></p>\n\n<p>Join us this Memorial Day for <em>The Murph Challenge</em>\, a powerful workout honoring the legacy of LT. Michael P. Murphy\, a Navy SEAL and Medal of Honor recipient. This annual event is a meaningful way to challenge yourself and pay tribute to those who made the ultimate sacrifice.</p>\n\n<p><strong>The Workout Includes:</strong><br />\n&bull\; 1 Mile Run<br />\n&bull\; 100 Pull-Ups<br />\n&bull\; 200 Push-Ups<br />\n&bull\; 300 Squats<br />\n&bull\; 1 Mile Run<br />\n(wearing a 20 lb vest)</p>\n\n<p>This is a <strong>free community event</strong>\, open to all fitness levels with modification options available. No registration is required to participate.</p>\n\n<p><strong>Want to support the cause?</strong><br />\nRegister online to receive an official Murph Challenge t-shirt&mdash\;proceeds benefit the LT. Michael P. Murphy Memorial Scholarship Foundation.</p>\n\n<p><strong>Location:</strong><br />\n<strong>Anytime Fitness Crown Point</strong><br />\n10645 Broadway\, Crown Point\, IN 46307<br />\n?? 219.662.2818</p>\n
LOCATION:Anytime Fitness Crown Point 10645 Broadway\, Crown Point\, IN 46307
UID:e.897.7087
SEQUENCE:3
DTSTAMP:20260420T065320Z
URL:https://members.crossroadschamber.org/events/details/murph-2025-anytime-fitness-crown-point-7087
END:VEVENT

END:VCALENDAR
