BEGIN:VCALENDAR
VERSION:2.0
PRODID:-//ChamberMaster//Event Calendar 2.0//EN
METHOD:PUBLISH
X-PUBLISHED-TTL:P3D
REFRESH-INTERVAL:P3D
CALSCALE:GREGORIAN
BEGIN:VEVENT
DTSTART:20230718T210000Z
DTEND:20230718T230000Z
X-MICROSOFT-CDO-ALLDAYEVENT:FALSE
SUMMARY:Networking Social @ Catch Table & Tap
DESCRIPTION:Social Networking Event
X-ALT-DESC;FMTTYPE=text/html:Social Networking Event&nbsp\;
LOCATION:Catch Table & Tap 500 E 81st Ave Merrillville\, IN 46410
UID:e.897.5027
SEQUENCE:3
DTSTAMP:20260423T223918Z
URL:https://members.crossroadschamber.org/events/details/networking-social-catch-table-tap-5027
END:VEVENT

END:VCALENDAR
