BEGIN:VCALENDAR
VERSION:2.0
PRODID:-//ChamberMaster//Event Calendar 2.0//EN
METHOD:PUBLISH
X-PUBLISHED-TTL:P3D
REFRESH-INTERVAL:P3D
CALSCALE:GREGORIAN
BEGIN:VEVENT
DTSTART:20240716T210000Z
DTEND:20240716T230000Z
X-MICROSOFT-CDO-ALLDAYEVENT:FALSE
SUMMARY:Networking Social Event-Triangle Hills & Retreat Center
DESCRIPTION:Summer Social After Hours Event \n\nAppetizers and two drink tickets will be included with registration
X-ALT-DESC;FMTTYPE=text/html:<font color="#000000"><b>Summer Social After Hours Event&nbsp\;</b></font><br />\n<span style="background:white\;"><span style="color:#333333\;"><span style="font-family:arial\,sans-serif\;"><span style="font-size:10.0pt\;">Appetizers&nbsp\;</span></span></span></span>and two drink tickets will be included with registration&nbsp\;
LOCATION:YMCA Camp Triangle Hills & Retreat Center 3838 W 141st Ave\, Crown Point\, IN 46307
UID:e.897.5657
SEQUENCE:3
DTSTAMP:20260421T022158Z
URL:https://members.crossroadschamber.org/events/details/networking-social-event-triangle-hills-retreat-center-5657
END:VEVENT

END:VCALENDAR
