BEGIN:VCALENDAR
VERSION:2.0
PRODID:-//ChamberMaster//Event Calendar 2.0//EN
METHOD:PUBLISH
X-PUBLISHED-TTL:P3D
REFRESH-INTERVAL:P3D
CALSCALE:GREGORIAN
BEGIN:VEVENT
DTSTART:20230315T170000Z
DTEND:20230315T180000Z
X-MICROSOFT-CDO-ALLDAYEVENT:FALSE
SUMMARY:New Member Lunch
DESCRIPTION:Are you a new member or new to the Crossroads Chamber?  This is for you!  Come learn more about your benefits of your membership to make sure you are utilizing them. \n\nMust register to jessica@crossroadschamber.org by March 10th.
X-ALT-DESC;FMTTYPE=text/html:Are you a new member or new to the Crossroads Chamber?&nbsp\; This is for you!&nbsp\; Come learn more about your benefits of your membership to make sure you are utilizing them.&nbsp\;<br />\nMust register to jessica@crossroadschamber.org by March 10th.
LOCATION:Crossroads Regional Chamber of Commerce 440 West 84th Drive Merrillville\, IN 46410
UID:e.897.4877
SEQUENCE:3
DTSTAMP:20260424T053054Z
URL:https://members.crossroadschamber.org/events/details/new-member-lunch-4877
END:VEVENT

END:VCALENDAR
