BEGIN:VCALENDAR
VERSION:2.0
PRODID:-//ChamberMaster//Event Calendar 2.0//EN
METHOD:PUBLISH
X-PUBLISHED-TTL:P3D
REFRESH-INTERVAL:P3D
CALSCALE:GREGORIAN
BEGIN:VEVENT
DTSTART:20211007T170000Z
DTEND:20211007T180000Z
X-MICROSOFT-CDO-ALLDAYEVENT:FALSE
SUMMARY:New Member Mixer
DESCRIPTION:We are hosting a New Member Mixer at our office.  We will dive into the benefits you should be utilizing that are included in your membership.  There is no charge to attend.  Lunch is included with an RSVP to Lisa at lisa@crossroadschamber.org by October 5\, 2021.
X-ALT-DESC;FMTTYPE=text/html:We are hosting a New Member Mixer at our office.&nbsp\; We will dive into the benefits you should be utilizing that are included in your membership.&nbsp\; There is no charge to attend.&nbsp\; Lunch is included with an RSVP to Lisa at lisa@crossroadschamber.org by October 5\, 2021.
LOCATION:Crossroads Regional Chamber of Commerce 440 West 84th Drive Merrillville\, IN 46410
UID:e.897.4441
SEQUENCE:3
DTSTAMP:20260425T114136Z
URL:https://members.crossroadschamber.org/events/details/new-member-mixer-4441
END:VEVENT

END:VCALENDAR
