BEGIN:VCALENDAR
VERSION:2.0
PRODID:-//ChamberMaster//Event Calendar 2.0//EN
METHOD:PUBLISH
X-PUBLISHED-TTL:P3D
REFRESH-INTERVAL:P3D
CALSCALE:GREGORIAN
BEGIN:VEVENT
DTSTART:20220315T170000Z
DTEND:20220315T180000Z
X-MICROSOFT-CDO-ALLDAYEVENT:FALSE
SUMMARY:New Member Mixer
DESCRIPTION:This event is for NEW MEMBERS to come learn more about all of the benefits included in your membership investment.\n\nYou must pre-register to Lisa at lisa@crossroadschamber.org.
X-ALT-DESC;FMTTYPE=text/html:This event is for NEW MEMBERS to come learn more about all of the benefits included in your membership investment.<br />\nYou must pre-register to Lisa at lisa@crossroadschamber.org.
LOCATION:Crossroads Regional Chamber of Commerce 440 West 84th Drive Merrillville\, IN 46410
UID:e.897.4491
SEQUENCE:3
DTSTAMP:20260425T024335Z
URL:https://members.crossroadschamber.org/events/details/new-member-mixer-4491
END:VEVENT

END:VCALENDAR
