BEGIN:VCALENDAR
VERSION:2.0
PRODID:-//ChamberMaster//Event Calendar 2.0//EN
METHOD:PUBLISH
X-PUBLISHED-TTL:P3D
REFRESH-INTERVAL:P3D
CALSCALE:GREGORIAN
BEGIN:VEVENT
DTSTART:20220913T170000Z
DTEND:20220913T180000Z
X-MICROSOFT-CDO-ALLDAYEVENT:FALSE
SUMMARY:New Member Mixer
DESCRIPTION:If you are a new member of the Crossroads Regional Chamber or just new to the Chamber\, we would like to invite you to our "New Member Mixer" lunch to learn about the benefits of your membership.
X-ALT-DESC;FMTTYPE=text/html:<span style="color: rgb(51\, 51\, 51)\; font-family: sans-serif\, Arial\, Verdana\, &quot\;Trebuchet MS&quot\;\; font-size: 13px\; background-color: rgb(255\, 255\, 255)\;">If you are a new member of the Crossroads Regional Chamber or just new to the Chamber\, we would like to invite you to our &quot\;New Member Mixer&quot\; lunch to learn about the benefits of your membership.</span>
LOCATION:Crossroads Regional Chamber of Commerce 440 West 84th Drive Merrillville\, IN 46410
UID:e.897.4541
SEQUENCE:3
DTSTAMP:20260424T160537Z
URL:https://members.crossroadschamber.org/events/details/new-member-mixer-4541
END:VEVENT

END:VCALENDAR
