BEGIN:VCALENDAR
VERSION:2.0
PRODID:-//ChamberMaster//Event Calendar 2.0//EN
METHOD:PUBLISH
X-PUBLISHED-TTL:P3D
REFRESH-INTERVAL:P3D
CALSCALE:GREGORIAN
BEGIN:VEVENT
DTSTART:20230911T170000Z
DTEND:20230911T180000Z
X-MICROSOFT-CDO-ALLDAYEVENT:FALSE
SUMMARY:New Member Mixer
DESCRIPTION:Are you a new member to Crossroads?  This is for you! \n\nCome learn more about your benefits of your membership\n\nto make sure you are utilizing them. \n\nMust sure to register by Thursday\, September 7
X-ALT-DESC;FMTTYPE=text/html:Are you a new member to Crossroads?&nbsp\; This is for you!&nbsp\;<br />\nCome learn more about your benefits of your membership<br />\nto make sure you are utilizing them.&nbsp\;<br />\nMust sure to register by Thursday\, September 7
LOCATION:Crossroads 440 West 84th Drive Merrillville\, IN 46410
UID:e.897.5023
SEQUENCE:3
DTSTAMP:20260423T185629Z
URL:https://members.crossroadschamber.org/events/details/new-member-mixer-5023
END:VEVENT

END:VCALENDAR
