BEGIN:VCALENDAR
VERSION:2.0
PRODID:-//ChamberMaster//Event Calendar 2.0//EN
METHOD:PUBLISH
X-PUBLISHED-TTL:P3D
REFRESH-INTERVAL:P3D
CALSCALE:GREGORIAN
BEGIN:VEVENT
DTSTART:20240625T170000Z
DTEND:20240625T180000Z
X-MICROSOFT-CDO-ALLDAYEVENT:FALSE
SUMMARY:New Member Mixer
DESCRIPTION:Are you a new member to Crossroads?  This is for you! \n\n\n\nCome learn more about your membership benefits to make sure you are utilizing all that Crossroads has to offer! \n\n\n\nNetwork with other new members\, and enjoy lunch provided by the chamber. \n\n\n\nPlease register by Thursday\, June 20\, 2024
X-ALT-DESC;FMTTYPE=text/html:<br />\n<span style="font-size: 14px\;"><strong><span style="background-image: initial\; background-position: initial\; background-size: initial\; background-repeat: initial\; background-attachment: initial\; background-origin: initial\; background-clip: initial\;"><span style="font-family: arial\, sans-serif\;"><span style="font-size:18px\;">Are you a new member to Crossroads?&nbsp\; This is for you!&nbsp\;</span></span></span></strong></span><br />\n<br />\n<span style="font-size:18px\;"><span style="font-family: arial\, sans-serif\;"><span style="background-image: initial\; background-position: initial\; background-size: initial\; background-repeat: initial\; background-attachment: initial\; background-origin: initial\; background-clip: initial\;">Come learn more about your membership benefits&nbsp\;to make sure you are utilizing all that Crossroads has to offer!&nbsp\;<br />\n<br />\nNetwork with other new members\, and enjoy lunch provided by the chamber.&nbsp\;</span><br />\n<br />\n<span style="background-image: initial\; background-position: initial\; background-size: initial\; background-repeat: initial\; background-attachment: initial\; background-origin: initial\; background-clip: initial\;">Please register by Thursday\, June 20\, 2024</span></span></span>
LOCATION:440 W. 84th Dr. Merrillville\, IN 46410
UID:e.897.6297
SEQUENCE:3
DTSTAMP:20260421T040556Z
URL:https://members.crossroadschamber.org/events/details/new-member-mixer-6297
END:VEVENT

END:VCALENDAR
