BEGIN:VCALENDAR
VERSION:2.0
PRODID:-//ChamberMaster//Event Calendar 2.0//EN
METHOD:PUBLISH
X-PUBLISHED-TTL:P3D
REFRESH-INTERVAL:P3D
CALSCALE:GREGORIAN
BEGIN:VEVENT
DTSTART:20220802T163000Z
DTEND:20220802T183000Z
X-MICROSOFT-CDO-ALLDAYEVENT:FALSE
SUMMARY:New Teacher Luncheon Sponsorships
DESCRIPTION:Help us welcome New Teachers and Administrators of the Crown Point\, Merrillville and Porter Township School Corporations at our Annual New Teacher Luncheon.\n\nThis luncheon is EXCLUSIVE to sponsors and teachers.  Full Table Sponsorship includes 2 spots for yourself.  Half Table Sponsorship includes 1.  Sit alongside the new staff and show your support for our schools.
X-ALT-DESC;FMTTYPE=text/html:Help us welcome New Teachers and Administrators of the Crown Point\, Merrillville and Porter Township School Corporations at our Annual New Teacher Luncheon.<br />\nThis luncheon is EXCLUSIVE to sponsors and teachers.&nbsp\; Full Table Sponsorship includes 2 spots for yourself.&nbsp\; Half Table Sponsorship includes 1.&nbsp\; Sit alongside the new staff and show your support for our schools.
LOCATION:Lighthouse Restaurant 7501 Constitution Avenue Cedar Lake\, IN 46303
UID:e.897.4519
SEQUENCE:3
DTSTAMP:20260424T175240Z
URL:https://members.crossroadschamber.org/events/details/new-teacher-luncheon-sponsorships-4519
END:VEVENT

END:VCALENDAR
