BEGIN:VCALENDAR
VERSION:2.0
PRODID:-//ChamberMaster//Event Calendar 2.0//EN
METHOD:PUBLISH
X-PUBLISHED-TTL:P3D
REFRESH-INTERVAL:P3D
CALSCALE:GREGORIAN
BEGIN:VEVENT
DTSTART:20240828T163000Z
DTEND:20240828T173000Z
X-MICROSOFT-CDO-ALLDAYEVENT:FALSE
SUMMARY:NorthShore Health Center Ribbon Cutting
DESCRIPTION:We are excited to invite everyone to welcome NorthShore Health Center to Crown Point. Please join us at the Ribbon Cutting.\n\n \n\nRibbon Cutting will take place at 11:30am.\n\n \n\nWe look forward to seeing everyone and appreciate your support of our Crossroads Chamber members\, and Northwest Indiana's business Community.
X-ALT-DESC;FMTTYPE=text/html:We are excited to invite everyone to welcome NorthShore Health Center to Crown Point. Please join us at the Ribbon Cutting.<br />\n&nbsp\;<br />\nRibbon Cutting will take place at 11:30am.<br />\n&nbsp\;<br />\nWe look forward to seeing everyone and appreciate your support of our Crossroads Chamber members\, and Northwest Indiana&rsquo\;s business Community.
LOCATION:310 W. 112th St Crown Point\, IN 46307
UID:e.897.6436
SEQUENCE:3
DTSTAMP:20260421T022356Z
URL:https://members.crossroadschamber.org/events/details/northshore-health-center-ribbon-cutting-6436
END:VEVENT

END:VCALENDAR
