BEGIN:VCALENDAR
VERSION:2.0
PRODID:-//ChamberMaster//Event Calendar 2.0//EN
METHOD:PUBLISH
X-PUBLISHED-TTL:P3D
REFRESH-INTERVAL:P3D
CALSCALE:GREGORIAN
BEGIN:VEVENT
DTSTART;VALUE=DATE:20260206
DTEND;VALUE=DATE:20260207
TRANSP:TRANSPARENT
X-MICROSOFT-CDO-ALLDAYEVENT:TRUE
SUMMARY:NorthShore Health Centers- Give Kids A Smile Day
DESCRIPTION:NothShore Health Center is turning frowns upside down in celebration of Give Kids A Smile program. \n\n*Underinsured Children up to Age 17*
X-ALT-DESC;FMTTYPE=text/html:<span style="font-size:22px\;"><span style="font-family:comic sans ms\;">NothShore Health Center is turning frowns upside down in celebration of Give Kids A Smile program.&nbsp\;<br />\n*Underinsured Children up to Age 17*</span></span><br />\n&nbsp\;
LOCATION:
UID:e.897.7360
SEQUENCE:3
DTSTAMP:20260419T163932Z
URL:https://members.crossroadschamber.org/events/details/northshore-health-centers-give-kids-a-smile-day-7360
END:VEVENT

END:VCALENDAR
