BEGIN:VCALENDAR
VERSION:2.0
PRODID:-//ChamberMaster//Event Calendar 2.0//EN
METHOD:PUBLISH
X-PUBLISHED-TTL:P3D
REFRESH-INTERVAL:P3D
CALSCALE:GREGORIAN
BEGIN:VEVENT
DTSTART:20251118T171500Z
DTEND:20251118T190000Z
X-MICROSOFT-CDO-ALLDAYEVENT:FALSE
SUMMARY:November Monthly Membership Program
DESCRIPTION:By popular demand\, Crossroads Chamber is bringing back our Networking Lunch at the Monthly Membership Program!\n\n\n\nNo guest speaker this time   just good food\, great company\, and plenty of time to connect with fellow chamber members.\n\n\n\nCome ready to share\, network\, and build relationships over lunch!
X-ALT-DESC;FMTTYPE=text/html:<p data-end="245" data-start="129"><span style="font-size:28px\;">By popular demand\, Crossroads Chamber is bringing back our Networking Lunch at the Monthly Membership Program!<br />\n<br />\nNo guest speaker this time &mdash\; just good food\, great company\, and plenty of time to connect with fellow chamber members.<br />\n<br />\n<strong>Come ready to share\, network\, and build relationships over lunch!</strong></span></p>\n
LOCATION:The Grand Court House Square Crown Point\, IN 46307
UID:e.897.6579
SEQUENCE:3
DTSTAMP:20260419T194450Z
URL:https://members.crossroadschamber.org/events/details/november-monthly-membership-program-6579
END:VEVENT

END:VCALENDAR
