BEGIN:VCALENDAR
VERSION:2.0
PRODID:-//ChamberMaster//Event Calendar 2.0//EN
METHOD:PUBLISH
X-PUBLISHED-TTL:P3D
REFRESH-INTERVAL:P3D
CALSCALE:GREGORIAN
BEGIN:VEVENT
DTSTART:20240914T160000Z
DTEND:20240914T190000Z
X-MICROSOFT-CDO-ALLDAYEVENT:FALSE
SUMMARY:NW Indiana ER 2024 Health Fair
DESCRIPTION:Come out and join us for our Health Fair!\n\nPrizes\, giveaways and more to come.
X-ALT-DESC;FMTTYPE=text/html:<p><span style="font-family:segoe ui historic\,segoe ui\,helvetica\,arial\,sans-serif\; font-size:15px">Come out and join us for our Health Fair!</span><br />\n<span style="font-family:segoe ui historic\,segoe ui\,helvetica\,arial\,sans-serif\; font-size:15px">Prizes\, giveaways and more to come.</span></p>\n
LOCATION:7904 Cabela Drive Hammond\, IN 46324
UID:e.897.6427
SEQUENCE:3
DTSTAMP:20260420T195800Z
URL:https://members.crossroadschamber.org/events/details/nw-indiana-er-2024-health-fair-6427
END:VEVENT

END:VCALENDAR
