BEGIN:VCALENDAR
VERSION:2.0
PRODID:-//ChamberMaster//Event Calendar 2.0//EN
METHOD:PUBLISH
X-PUBLISHED-TTL:P3D
REFRESH-INTERVAL:P3D
CALSCALE:GREGORIAN
BEGIN:VEVENT
DTSTART:20250429T230000Z
DTEND:20250430T010000Z
X-MICROSOFT-CDO-ALLDAYEVENT:FALSE
SUMMARY:NWI Advocacy Amplified: 2025 Legislative Recap
DESCRIPTION:Come out on April 29th to hear about all the great legislative wins after session has ended. This event brings together families\, community partners\, and advocates for school choice from all across NWI. Whether you want to help expand your network\, learn something new\, or just fellowship with other great advocates\, this is the event for you!
X-ALT-DESC;FMTTYPE=text/html:<span style="color:rgb(85\, 85\, 85)\; font-family:arial\,helvetica neue\,helvetica\,sans-serif\; font-size:16px">Come out on April 29th to hear about all the great legislative wins after session has ended. This event brings together families\, community partners\, and advocates for school choice from all across NWI. Whether you want to help expand your network\, learn something new\, or just fellowship with other great advocates\, this is the event for you!&nbsp\;</span>
LOCATION:Culinary Misfits: Upstairs Lounge 208 S Main St\, Crown Point\, IN 46307
UID:e.897.7070
SEQUENCE:3
DTSTAMP:20260420T103059Z
URL:https://members.crossroadschamber.org/events/details/nwi-advocacy-amplified-2025-legislative-recap-7070
END:VEVENT

END:VCALENDAR
