BEGIN:VCALENDAR
VERSION:2.0
PRODID:-//ChamberMaster//Event Calendar 2.0//EN
METHOD:PUBLISH
X-PUBLISHED-TTL:P3D
REFRESH-INTERVAL:P3D
CALSCALE:GREGORIAN
BEGIN:VEVENT
DTSTART:20250709T223000Z
DTEND:20250710T030000Z
X-MICROSOFT-CDO-ALLDAYEVENT:FALSE
SUMMARY:NWI Chamber Night at the Gary South Shore Railcats Stadium
DESCRIPTION:NWI Chamber Night at the Gary South Shore RailCats Stadium\n\n\n\nWhether you're a seasoned sports enthusiast or simply looking to unwind and connect with like-minded professionals\, this event promises an unforgettable experience of building connections both on and off the field. So grab your tickets and get ready to swing for the fences in a night that blends business with pleasure!\n\n\n\nEnjoy a fun night of networking with colleagues and baseball.\n\n\n\nEnjoy heavy appetizers\, beer\, and wine while you network with 14 different chambers and their members.
X-ALT-DESC;FMTTYPE=text/html:<br />\n<span style="font-size:16px\;"><span style="font-size:18px\;"><strong>&#8203\;NWI Chamber Night at the Gary South Shore RailCats Stadium</strong></span><br />\n<br />\nWhether you&#39\;re a seasoned sports enthusiast or simply looking to unwind and connect with like-minded professionals\, this event promises an unforgettable experience of building connections both on and off the field. So grab your tickets and get ready to swing for the fences in a night that blends business with pleasure!<br />\n<br />\nEnjoy a fun night of networking with colleagues and baseball.<br />\n<br />\nEnjoy heavy appetizers\, beer\, and wine while you network with <strong>14 different chambers</strong> and their members.</span>&nbsp\;
LOCATION:Gary SouthShore RailCats 1 Stadium Plaza\, Gary\, IN 46402
UID:e.897.7092
SEQUENCE:3
DTSTAMP:20260420T050359Z
URL:https://members.crossroadschamber.org/events/details/nwi-chamber-night-at-the-gary-south-shore-railcats-stadium-7092
END:VEVENT

END:VCALENDAR
