BEGIN:VCALENDAR
VERSION:2.0
PRODID:-//ChamberMaster//Event Calendar 2.0//EN
METHOD:PUBLISH
X-PUBLISHED-TTL:P3D
REFRESH-INTERVAL:P3D
CALSCALE:GREGORIAN
BEGIN:VEVENT
DTSTART:20240326T210000Z
DTEND:20240326T230000Z
X-MICROSOFT-CDO-ALLDAYEVENT:FALSE
SUMMARY:NWI Integrative Health & Wellness Ribbon Cutting
DESCRIPTION:We are excited to invite everyone to NWI Integrative Health & Wellness Ribbon/Open House.\n\n \n\nOpen house will be held from 4p-6p\n\nRibbon Cutting will take place at 4:30pm\n\n \n\nWe look forward to seeing everyone and appreciate your support of our Crossroads Chamber members\, and Northwest Indiana's business Community.
X-ALT-DESC;FMTTYPE=text/html:&nbsp\;We are excited to invite everyone to NWI Integrative Health &amp\; Wellness Ribbon/Open House.<br />\n&nbsp\;<br />\nOpen house will be held from 4p-6p<br />\nRibbon Cutting will take place at 4:30pm<br />\n&nbsp\;<br />\nWe look forward to seeing everyone and appreciate your support of our Crossroads Chamber members\, and Northwest Indiana&rsquo\;s business Community.
LOCATION:1776 E. North St. Crown Point\, IN 46307
UID:e.897.6086
SEQUENCE:3
DTSTAMP:20260423T090254Z
URL:https://members.crossroadschamber.org/events/details/nwi-integrative-health-wellness-ribbon-cutting-6086
END:VEVENT

END:VCALENDAR
