BEGIN:VCALENDAR
VERSION:2.0
PRODID:-//ChamberMaster//Event Calendar 2.0//EN
METHOD:PUBLISH
X-PUBLISHED-TTL:P3D
REFRESH-INTERVAL:P3D
CALSCALE:GREGORIAN
BEGIN:VEVENT
DTSTART:20221018T161500Z
DTEND:20221018T180000Z
X-MICROSOFT-CDO-ALLDAYEVENT:FALSE
SUMMARY:October 2022 Monthly Membership Lunch
DESCRIPTION:Mike Hooper\, CEO NIPSCO
X-ALT-DESC;FMTTYPE=text/html:Mike Hooper\, CEO NIPSCO
LOCATION:Hard Rock Casino Northern Indiana 5400 W 29th Ave. Gary\, IN 46406
UID:e.897.4534
SEQUENCE:3
DTSTAMP:20260424T162124Z
URL:https://members.crossroadschamber.org/events/details/october-2022-monthly-membership-lunch-4534
END:VEVENT

END:VCALENDAR
