BEGIN:VCALENDAR
VERSION:2.0
PRODID:-//ChamberMaster//Event Calendar 2.0//EN
METHOD:PUBLISH
X-PUBLISHED-TTL:P3D
REFRESH-INTERVAL:P3D
CALSCALE:GREGORIAN
BEGIN:VEVENT
DTSTART:20231017T161500Z
DTEND:20231017T180000Z
X-MICROSOFT-CDO-ALLDAYEVENT:FALSE
SUMMARY:October 2023 Monthly Luncheon
DESCRIPTION:Guest Speaker\n\nDavid Uran \n\nPresident/CEO South Shore CVA
X-ALT-DESC;FMTTYPE=text/html:Guest Speaker<br />\nDavid Uran&nbsp\;<br />\nPresident/CEO South Shore CVA
LOCATION:Fair Oaks Farms 856 N 600 E Fair Oaks\, IN 47943
UID:e.897.5032
SEQUENCE:3
DTSTAMP:20260423T171418Z
URL:https://members.crossroadschamber.org/events/details/october-2023-monthly-luncheon-5032
END:VEVENT

END:VCALENDAR
