BEGIN:VCALENDAR
VERSION:2.0
PRODID:-//ChamberMaster//Event Calendar 2.0//EN
METHOD:PUBLISH
X-PUBLISHED-TTL:P3D
REFRESH-INTERVAL:P3D
CALSCALE:GREGORIAN
BEGIN:VEVENT
DTSTART:20251021T161500Z
DTEND:20251021T180000Z
X-MICROSOFT-CDO-ALLDAYEVENT:FALSE
SUMMARY:October Monthly Membership Program
DESCRIPTION:Economic Development Panel \n\n\n\nPanel Speakers: \n\nJosh Huddlestun Mayor City of Hobart\n\nSherri Ziller President and CEO at Northwest Indiana Regional Development Authority\n\nChris Salatas President Lake County IN Economic Alliance \n\nEze Redwood US Dept. of Commerce\, EDA Economic Recovery Fellow\n\n\n\nModerator:\n\nHeather Ennis President and CEO of NWI Forum\n\n\n\n\n\nDon't forget to register for a Promotional "Get Promoted" Table $30 \n\nReceive a table with two chairs\, bring your promotional items for your business\, network with members and receive mic time during the program.
X-ALT-DESC;FMTTYPE=text/html:<span style="font-family:times new roman\;"><span style="font-size:22px\;"><span style="font-size:24px\;"><span data-sheets-root="1" style="color: rgb(0\, 0\, 0)\; text-align: center\;">Economic Development Panel&nbsp\;</span><br />\n<br />\nPanel Speakers:&nbsp\;<br />\n<strong>Josh Huddlestun</strong> Mayor City of Hobart<br />\n<span style="color: rgba(0\, 0\, 0\, 0.9)\;"><strong>Sherri Ziller</strong> President and CEO at Northwest Indiana Regional Development Authority<br />\n<strong>Chris Salatas</strong> President Lake County IN Economic Alliance&nbsp\;<br />\n<strong>Eze Redwood</strong> US Dept. of Commerce\, EDA Economic Recovery Fellow<br />\n<br />\nModerator:<br />\n<strong>Heather Ennis</strong> President and CEO of NWI Forum</span></span></span></span><br />\n<br />\n<br />\n<span style="font-family:times new roman\;"><span style="font-size:22px\;">Don&#39\;t forget to register for a&nbsp\;<strong>Promotional &ldquo\;Get Promoted&rdquo\; Table $30&nbsp\;</strong><br />\nReceive a table with two chairs\, bring your promotional items for your business\, network with members and receive mic time during the program.</span></span><br />\n<br />\n&nbsp\;
LOCATION:Hard Rock Casino Northern Indiana 5400 W 29th Ave Gary\, IN 46406
UID:e.897.6578
SEQUENCE:3
DTSTAMP:20260419T213657Z
URL:https://members.crossroadschamber.org/events/details/october-monthly-membership-program-6578
END:VEVENT

END:VCALENDAR
