BEGIN:VCALENDAR
VERSION:2.0
PRODID:-//ChamberMaster//Event Calendar 2.0//EN
METHOD:PUBLISH
X-PUBLISHED-TTL:P3D
REFRESH-INTERVAL:P3D
CALSCALE:GREGORIAN
BEGIN:VEVENT
DTSTART:20250610T223000Z
DTEND:20250611T002500Z
X-MICROSOFT-CDO-ALLDAYEVENT:FALSE
SUMMARY:Old National Bank Small Business Empowerment Reception
DESCRIPTION:You're invited! Meet with local business leaders and see if our Empowerment Small Business Loan Program could help your business. Event in Merrillville!
X-ALT-DESC;FMTTYPE=text/html:You&rsquo\;re invited! Meet with local business leaders and see if our Empowerment Small Business Loan Program could help your business. Event in Merrillville!
LOCATION:Innsbrook Country Club 6701 Taft Street Merrillville\, IN 46410
UID:e.897.7101
SEQUENCE:3
DTSTAMP:20260420T065320Z
URL:https://members.crossroadschamber.org/events/details/old-national-bank-small-business-empowerment-reception-7101
END:VEVENT

END:VCALENDAR
