BEGIN:VCALENDAR
VERSION:2.0
PRODID:-//ChamberMaster//Event Calendar 2.0//EN
METHOD:PUBLISH
X-PUBLISHED-TTL:P3D
REFRESH-INTERVAL:P3D
CALSCALE:GREGORIAN
BEGIN:VEVENT
DTSTART:20220430T160000Z
DTEND:20220430T200000Z
X-MICROSOFT-CDO-ALLDAYEVENT:FALSE
SUMMARY:Open House / Ribbon Cutting
DESCRIPTION:Join us at Bionic Prosthetics & Orthotics for a limb loss / limb difference awareness month open house.  We will be cutting the ribbon along with Hobart Mayor Brian Snedecor at 11:40am.  There will be a food truck\, tours\, a hiring booth and more!
X-ALT-DESC;FMTTYPE=text/html:Join us at Bionic Prosthetics &amp\; Orthotics for a limb loss / limb difference awareness month open house.&nbsp\; We will be cutting the ribbon along with Hobart Mayor Brian Snedecor at 11:40am.&nbsp\; There will be a food truck\, tours\, a hiring booth and more!
LOCATION:Bionic Prosthetics & Orthotics 3803 East Lincoln Highway Merrillville\, IN 46410
UID:e.897.4500
SEQUENCE:3
DTSTAMP:20260425T004817Z
URL:https://members.crossroadschamber.org/events/details/open-house-ribbon-cutting-4500
END:VEVENT

END:VCALENDAR
