BEGIN:VCALENDAR
VERSION:2.0
PRODID:-//ChamberMaster//Event Calendar 2.0//EN
METHOD:PUBLISH
X-PUBLISHED-TTL:P3D
REFRESH-INTERVAL:P3D
CALSCALE:GREGORIAN
BEGIN:VEVENT
DTSTART:20220512T163000Z
DTEND:20220512T230000Z
X-MICROSOFT-CDO-ALLDAYEVENT:FALSE
SUMMARY:Open House / Ribbon Cutting
DESCRIPTION:Join us to celebrate Alyse Houghton's new office!  Open House is 11:30-6:00 but we will be cutting the ribbon at 12:30pm.  Refreshments will be served.  Stop in on your lunch hour!
X-ALT-DESC;FMTTYPE=text/html:Join us to celebrate Alyse Houghton&#39\;s new office!&nbsp\; Open House is 11:30-6:00 but we will be cutting the ribbon at 12:30pm.&nbsp\; Refreshments will be served.&nbsp\; Stop in on your lunch hour!
LOCATION:Edward Jones -- Alyse Houghton Financial Advisor 10712 Broadway Crown Point\, IN 46307
UID:e.897.4501
SEQUENCE:3
DTSTAMP:20260424T225410Z
URL:https://members.crossroadschamber.org/events/details/open-house-ribbon-cutting-4501
END:VEVENT

END:VCALENDAR
