BEGIN:VCALENDAR
VERSION:2.0
PRODID:-//ChamberMaster//Event Calendar 2.0//EN
METHOD:PUBLISH
X-PUBLISHED-TTL:P3D
REFRESH-INTERVAL:P3D
CALSCALE:GREGORIAN
BEGIN:VEVENT
DTSTART:20240911T200000Z
DTEND:20240911T220000Z
X-MICROSOFT-CDO-ALLDAYEVENT:FALSE
SUMMARY:Open House Scavenger Hunt
DESCRIPTION:You are cordially invited to join us for an open house scavenger hunt at Belvedere Senior Housing. Tour our beautiful community and participate in the scavenger hunt for an opportunity to win a gift card for an hour-long massage!\n\n\n\nPlease RSVP to marketing@belvedereseniorhousing.com\n\nAppetizers and beverages will be provided
X-ALT-DESC;FMTTYPE=text/html:<span style="font-size:20px\;">You are cordially invited to join us for an open house scavenger hunt at Belvedere Senior Housing. Tour our beautiful community and participate in the scavenger hunt for an opportunity to win a gift card for an hour-long massage!<br />\n<br />\nPlease RSVP to marketing@belvedereseniorhousing.com<br />\nAppetizers and beverages will be provided</span>
LOCATION:343 East 90th Drive Merrillville\, Indiana 46410
UID:e.897.6464
SEQUENCE:3
DTSTAMP:20260420T194853Z
URL:https://members.crossroadschamber.org/events/details/open-house-scavenger-hunt-6464
END:VEVENT

END:VCALENDAR
