BEGIN:VCALENDAR
VERSION:2.0
PRODID:-//ChamberMaster//Event Calendar 2.0//EN
METHOD:PUBLISH
X-PUBLISHED-TTL:P3D
REFRESH-INTERVAL:P3D
CALSCALE:GREGORIAN
BEGIN:VEVENT
DTSTART:20231024T210000Z
DTEND:20231024T230000Z
X-MICROSOFT-CDO-ALLDAYEVENT:FALSE
SUMMARY:Paladin Ribbon Cutting
DESCRIPTION:Paladin Ribbon Cutting
X-ALT-DESC;FMTTYPE=text/html:Paladin Ribbon Cutting&nbsp\;
LOCATION:2395 West Old Ridge Rd. Hobart\, IN 46342
UID:e.897.5056
SEQUENCE:3
DTSTAMP:20260423T171418Z
URL:https://members.crossroadschamber.org/events/details/paladin-ribbon-cutting-5056
END:VEVENT

END:VCALENDAR
