BEGIN:VCALENDAR
VERSION:2.0
PRODID:-//ChamberMaster//Event Calendar 2.0//EN
METHOD:PUBLISH
X-PUBLISHED-TTL:P3D
REFRESH-INTERVAL:P3D
CALSCALE:GREGORIAN
BEGIN:VEVENT
DTSTART:20240718T190000Z
DTEND:20240718T210000Z
X-MICROSOFT-CDO-ALLDAYEVENT:FALSE
SUMMARY:Patriot Support Program Celebration
DESCRIPTION:Welcome to the Patriot Support Program Celebration! Join us at the Midwest Center for Youth & Families for a small dedication\, brief celebration\, and tours of the facility. Midwest Center for Youth & Families has been meeting quality metrics to qualify for the Patriot Support Program designation.\n\n\n\nPatriot Support Programs of UHS provide treatment for active-duty military\, veterans\, National Guard\, Reserves and their families. Programs and services are specifically designed to address the effects of mood disorders\, depression\, grief and loss\, and other behavioral health issues.\n\nDon't miss out on this exciting event - learn more about resources in the community - mark your calendars now!\n\n \n\n It will be similar to a ribbon cutting where there will be brief speeches\, light refreshments\, and tours to follow.\n\n \n\nPlease feel free to pass along to those who may benefit from learning about us.\n\n\n\nRSVP on Eventbrite\n\n\n\nhttps://www.eventbrite.com/e/patriot-support-celebration-tickets-899363138357?aff=oddtdtcreator
X-ALT-DESC;FMTTYPE=text/html:<span style="font-size:20px\;"><span style="color:black\;">Welcome to the&nbsp\;<strong><span style="font-family:aptos\,sans-serif\;">Patriot Support Program Celebration</span></strong></span>! Join us at the&nbsp\;<strong><span style="font-family:aptos\,sans-serif\;">Midwest Center for Youth &amp\; Families</span></strong>&nbsp\;for a small dedication\, brief celebration\, and tours of the facility. Midwest Center for Youth &amp\; Families has been meeting quality metrics to qualify for the Patriot Support Program designation.<br />\n<br />\n<span style="color:black\;">Patriot Support Programs of UHS provide treatment for active-duty military\, veterans\, National Guard\, Reserves and their families. Programs and services are specifically designed to address the effects of mood disorders\, depression\, grief and loss\, and other behavioral health issues.</span><br />\n<span style="color:black\;">Don&#39\;t miss out on this exciting event - learn more about resources in the community - mark your calendars now!</span><br />\n&nbsp\;<br />\n&nbsp\;It will be similar to a ribbon cutting where there will be brief speeches\, light refreshments\, and tours to follow.<br />\n&nbsp\;<br />\nPlease feel free to pass along to those who may benefit from learning about us.<br />\n<br />\nRSVP on Eventbrite<br />\n<br />\n<a href="https://www.eventbrite.com/e/patriot-support-celebration-tickets-899363138357?aff=oddtdtcreator">https://www.eventbrite.com/e/patriot-support-celebration-tickets-899363138357?aff=oddtdtcreator</a></span>
LOCATION:1012 W. Indiana St. Kouts\, IN 46347
UID:e.897.6296
SEQUENCE:3
DTSTAMP:20260421T021832Z
URL:https://members.crossroadschamber.org/events/details/patriot-support-program-celebration-6296
END:VEVENT

END:VCALENDAR
