BEGIN:VCALENDAR
VERSION:2.0
PRODID:-//ChamberMaster//Event Calendar 2.0//EN
METHOD:PUBLISH
X-PUBLISHED-TTL:P3D
REFRESH-INTERVAL:P3D
CALSCALE:GREGORIAN
BEGIN:VEVENT
DTSTART:20240914T140000Z
DTEND:20240914T220000Z
X-MICROSOFT-CDO-ALLDAYEVENT:FALSE
SUMMARY:Paws in the Park
DESCRIPTION:Paws in the Park 2024: PAWSapalooza\n\nJoin us on September 14\, 2024\, at Community Park in Munster\, Indiana\, for Humane Indiana's annual Paws in the Park event! Enjoy a day filled with activities for the whole family and your furry friends. Highlights include a Doggie Fashion Show\, Companion Walk\, vendor booths\, food trucks\, a Beer Garden\, and live music. The event runs from 9:00 AM to 5:00 PM\, and participation in the Companion Walk is free. Don't miss this exciting celebration of pets and community!\n\nFor more details\, visit Paws in the Park 2024.
X-ALT-DESC;FMTTYPE=text/html:<p><strong>Paws in the Park 2024: PAWSapalooza</strong></p>\n\n<p>Join us on September 14\, 2024\, at Community Park in Munster\, Indiana\, for Humane Indiana&rsquo\;s annual Paws in the Park event! Enjoy a day filled with activities for the whole family and your furry friends. Highlights include a Doggie Fashion Show\, Companion Walk\, vendor booths\, food trucks\, a Beer Garden\, and live music. The event runs from 9:00 AM to 5:00 PM\, and participation in the Companion Walk is free. Don&#39\;t miss this exciting celebration of pets and community!</p>\n\n<p>For more details\, visit <a href="https://www.humaneindiana.org/events/2024/pawsinthepark2024" rel="noreferrer" target="_new">Paws in the Park 2024</a>.</p>\n
LOCATION:The address for Paws in the Park: PAWSapalooza 2024 is: Community Park 8751 Calumet Avenue Munster\, Indiana 46321
UID:e.897.6439
SEQUENCE:3
DTSTAMP:20260420T212433Z
URL:https://members.crossroadschamber.org/events/details/paws-in-the-park-6439
END:VEVENT

END:VCALENDAR
