BEGIN:VCALENDAR
VERSION:2.0
PRODID:-//ChamberMaster//Event Calendar 2.0//EN
METHOD:PUBLISH
X-PUBLISHED-TTL:P3D
REFRESH-INTERVAL:P3D
CALSCALE:GREGORIAN
BEGIN:VEVENT
DTSTART:20260108T153000Z
DTEND:20260108T153000Z
X-MICROSOFT-CDO-ALLDAYEVENT:FALSE
SUMMARY:Pickleball Committee Meeting
DESCRIPTION:Pickleball Committee Meeting
X-ALT-DESC;FMTTYPE=text/html:Pickleball Committee Meeting
LOCATION:Crossroads Boardroom
UID:e.897.7160
SEQUENCE:3
DTSTAMP:20260419T182823Z
URL:https://members.crossroadschamber.org/events/details/pickleball-committee-meeting-01-08-2026-7160
END:VEVENT

END:VCALENDAR
