BEGIN:VCALENDAR
VERSION:2.0
PRODID:-//ChamberMaster//Event Calendar 2.0//EN
METHOD:PUBLISH
X-PUBLISHED-TTL:P3D
REFRESH-INTERVAL:P3D
CALSCALE:GREGORIAN
BEGIN:VEVENT
DTSTART:20260507T220000Z
DTEND:20260508T030000Z
X-MICROSOFT-CDO-ALLDAYEVENT:FALSE
SUMMARY:Plant Bingo Night – A Fundraiser for The Humane Society of Hobart
DESCRIPTION:Get ready for a night full of plants\, prizes\, and plenty of fun!\n\n\n\nJoin us on May 7th for our exciting Plant Bingo Fundraiser where every round gives you the chance to win beautiful plants and awesome prizes while supporting a great cause!\n\n\n\n Doors Open: 5:00 PM\n\n Games Start: 6:00 PM\n\n\n\nHere's what you can expect:\n\n- Plant-themed bingo with fun prizes\n\n- Raffles & door prizes throughout the night\n\n- Food available to keep you fueled for the fun\n\n- A lively\, feel-good atmosphere with fellow plant lovers\n\n\n\nWhether you're a plant pro or just love a good bingo night\, this event is for YOU!\n\n\n\nAll proceeds directly benefit the animals at The Humane Society of Hobart\, helping us continue our lifesaving work.\n\n\n\nGrab your friends\, bring your lucky charm\, and come grow some good vibes with us!
X-ALT-DESC;FMTTYPE=text/html:<span style="font-family:tahoma\;"><span style="font-size:22px\;">Get ready for a night full of plants\, prizes\, and plenty of fun!<br />\n<br />\nJoin us on May 7th for our exciting Plant Bingo Fundraiser&mdash\;where every round gives you the chance to win beautiful plants and awesome prizes while supporting a great cause!<br />\n<br />\n&nbsp\;Doors Open: 5:00 PM<br />\n&nbsp\;Games Start: 6:00 PM<br />\n<br />\nHere&rsquo\;s what you can expect:<br />\n- Plant-themed bingo with fun prizes<br />\n- Raffles &amp\; door prizes throughout the night<br />\n- Food available to keep you fueled for the fun<br />\n- A lively\, feel-good atmosphere with fellow plant lovers<br />\n<br />\nWhether you&rsquo\;re a plant pro or just love a good bingo night\, this event is for YOU!<br />\n<br />\nAll proceeds directly benefit the animals at The Humane Society of Hobart\, helping us continue our lifesaving work.<br />\n<br />\nGrab your friends\, bring your lucky charm\, and come grow some good vibes with us!</span></span>
LOCATION:Morgan Monroe Hall 3850 Howard St. Hobart\, IN 46342
UID:e.897.7407
SEQUENCE:3
DTSTAMP:20260419T162823Z
URL:https://members.crossroadschamber.org/events/details/plant-bingo-night-a-fundraiser-for-the-humane-society-of-hobart-7407
END:VEVENT

END:VCALENDAR
