BEGIN:VCALENDAR
VERSION:2.0
PRODID:-//ChamberMaster//Event Calendar 2.0//EN
METHOD:PUBLISH
X-PUBLISHED-TTL:P3D
REFRESH-INTERVAL:P3D
CALSCALE:GREGORIAN
BEGIN:VEVENT
DTSTART:20250710T153000Z
DTEND:20250711T000000Z
X-MICROSOFT-CDO-ALLDAYEVENT:FALSE
SUMMARY:Play "Fore" the Kids Annual Golf Event
DESCRIPTION:This annual event is a local favorite! This is a grassroots event with a fun day on a beautiful course\, including a buffet lunch and dinner\, exciting games\, and good company! Each sponsorship level includes a foursome.\n\n\n\nSCHEDULE\n\n	10:30 a.m. Registration Opens/Lunch Buffet\n	Noon  Shotgun Start\n	5:30 p.m. Dinner
X-ALT-DESC;FMTTYPE=text/html:This annual event is a local favorite! This is a grassroots event with a fun day on a beautiful course\, including a buffet lunch and dinner\, exciting games\, and good company! Each sponsorship level includes a foursome.<br />\n<br />\nSCHEDULE\n<ul>\n	<li>10:30 a.m. Registration Opens/Lunch Buffet</li>\n	<li>Noon&nbsp\; Shotgun Start</li>\n	<li>5:30 p.m. Dinner</li>\n</ul>\n
LOCATION:White Hawk Country Club: 1001 White Hawk Dr\, Crown Point\, IN 46307
UID:e.897.7107
SEQUENCE:3
DTSTAMP:20260420T031554Z
URL:https://members.crossroadschamber.org/events/details/play-fore-the-kids-annual-golf-event-7107
END:VEVENT

END:VCALENDAR
