BEGIN:VCALENDAR
VERSION:2.0
PRODID:-//ChamberMaster//Event Calendar 2.0//EN
METHOD:PUBLISH
X-PUBLISHED-TTL:P3D
REFRESH-INTERVAL:P3D
CALSCALE:GREGORIAN
BEGIN:VEVENT
DTSTART:20240905T141500Z
DTEND:20240905T150000Z
X-MICROSOFT-CDO-ALLDAYEVENT:FALSE
SUMMARY:Play it Again Sports Ribbon Cutting
DESCRIPTION:We are excited to invite everyone to welcome Play it Again Sports to Merrillville. Please join us at the Ribbon Cutting/ Open house.\n\n\n\nRibbon Cutting will take place at 9:30am.\n\n \n\nWe look forward to seeing everyone and appreciate your support of our Crossroads Chamber members\, and Northwest Indiana's business Community.
X-ALT-DESC;FMTTYPE=text/html:We are excited to invite everyone to welcome Play it Again Sports to Merrillville. Please join us at the Ribbon Cutting/ Open house.<br />\n<br />\nRibbon Cutting will take place at 9:30am.<br />\n&nbsp\;<br />\nWe look forward to seeing everyone and appreciate your support of our Crossroads Chamber members\, and Northwest Indiana&rsquo\;s business Community.
LOCATION:1876 E. 80th Ave Merrillville\, IN 46410
UID:e.897.6461
SEQUENCE:3
DTSTAMP:20260420T213453Z
URL:https://members.crossroadschamber.org/events/details/play-it-again-sports-ribbon-cutting-6461
END:VEVENT

END:VCALENDAR
