BEGIN:VCALENDAR
VERSION:2.0
PRODID:-//ChamberMaster//Event Calendar 2.0//EN
METHOD:PUBLISH
X-PUBLISHED-TTL:P3D
REFRESH-INTERVAL:P3D
CALSCALE:GREGORIAN
BEGIN:VEVENT
DTSTART:20230816T140000Z
DTEND:20230816T150000Z
X-MICROSOFT-CDO-ALLDAYEVENT:FALSE
SUMMARY:Protect Your Business from Cyber Attacks! (A common-sense approach)
DESCRIPTION:Protect Your Business from Cyber Attacks! (A common-sense approach)\n\nPresenter:  Stephen Muensterman\, President\, Cloudbusters\, Inc.\n\nCloudbusters\, Inc. was founded by Stephen Muenstermann and his son in 2011. They are proud military veterans armed with decades of experience in the automation & digital (IoT) technology industry with specific experience with Honeywell\, Lesman Instruments and Rovisys serving global consulting support for Google\, BoA\, AMD and other big tech Data Centers.  \n\nSteve will share his knowledge and some insights about how businesses can operate or how individuals can manage their own technology in today's world filled with ransomware\, phishing\, spoofing and other cyber pitfalls and dangers in today's fast-moving world of cyber threats.\n\nAttendees will be able to assess how well they are prepared to prevent or recover from any type of cyber-attack.\n\n \n\nSponsored in collaboration with SCORE | NW Indiana
X-ALT-DESC;FMTTYPE=text/html:<span style="font-size:12px\;"><span style="font-family:arial\;"><span style="color:red\;">Protect Your Business from Cyber Attacks!&nbsp\;(A common-sense approach)</span><br />\n<u><span style="background:white\;"><span style="color:black\;">Presenter</span></span></u><span style="background:white\;"><span style="color:black\;">:&nbsp\; Stephen Muensterman\, President\, Cloudbusters\, Inc.</span></span><br />\n<span style="background:white\;"><span style="color:black\;">Cloudbusters\, Inc. was founded by Stephen Muenstermann and his son in 2011. They are proud military veterans armed with decades of experience in the automation &amp\; digital (IoT) technology industry with specific experience with Honeywell\, Lesman Instruments and Rovisys serving global consulting support for Google\, BoA\, AMD and other big tech Data Centers.&nbsp\; </span></span><br />\n<span style="background:white\;"><span style="color:black\;">Steve will share his knowledge and some insights about how businesses can operate or how individuals can manage their own technology in today&rsquo\;s world filled with ransomware\, phishing\, spoofing and other cyber pitfalls and dangers in today&rsquo\;s fast-moving world of cyber threats.</span></span><br />\n<span style="background:white\;"><span style="color:black\;">Attendees will be able to assess how well they are prepared to prevent or recover from any type of cyber-attack.</span></span><br />\n&nbsp\;</span></span><br />\n<span style="background:white\;"><span style="color:black\;"><span style="font-size:12px\;"><span style="font-family:arial\;">Sponsored in collaboration with </span></span><span style="font-family:roboto\;"><span style="font-size:17.5pt\;"><span style="font-size:12px\;"><span style="font-family:arial\;">SCORE | NW Indiana</span></span> </span></span></span></span>
LOCATION:Crossroads Chamber of Commerce 440 W. 84th Drive Merrillville\, IN 46410
UID:e.897.5033
SEQUENCE:3
DTSTAMP:20260423T224213Z
URL:https://members.crossroadschamber.org/events/details/protect-your-business-from-cyber-attacks-a-common-sense-approach-5033
END:VEVENT

END:VCALENDAR
