BEGIN:VCALENDAR
VERSION:2.0
PRODID:-//ChamberMaster//Event Calendar 2.0//EN
METHOD:PUBLISH
X-PUBLISHED-TTL:P3D
REFRESH-INTERVAL:P3D
CALSCALE:GREGORIAN
BEGIN:VEVENT
DTSTART:20251116T000000Z
DTEND:20251116T040000Z
X-MICROSOFT-CDO-ALLDAYEVENT:FALSE
SUMMARY:Putting on the Ritz Cheers to 15 years Gala
DESCRIPTION:Join us as we celebrate 15 years as Crossroads at our Putting on the Ritz Cheers to 15 years Gala.    Enjoy awesome food and beverages while networking with over 400 attendees.
X-ALT-DESC;FMTTYPE=text/html:Join us as we celebrate 15 years as Crossroads at our Putting on the Ritz Cheers to 15 years Gala.&nbsp\; &nbsp\; Enjoy awesome food and beverages while networking with over 400 attendees.&nbsp\;&nbsp\;<br />\n&nbsp\;
LOCATION:Hard Rock Casino Northern Indiana 5400 W 29th Avenue Gary\, IN
UID:e.897.6603
SEQUENCE:3
DTSTAMP:20260419T194854Z
URL:https://members.crossroadschamber.org/events/details/putting-on-the-ritz-cheers-to-15-years-gala-6603
END:VEVENT

END:VCALENDAR
