BEGIN:VCALENDAR
VERSION:2.0
PRODID:-//ChamberMaster//Event Calendar 2.0//EN
METHOD:PUBLISH
X-PUBLISHED-TTL:P3D
REFRESH-INTERVAL:P3D
CALSCALE:GREGORIAN
BEGIN:VEVENT
DTSTART:20241001T160000Z
DTEND:20241001T170000Z
X-MICROSOFT-CDO-ALLDAYEVENT:FALSE
SUMMARY:Reclaim 10 Hours A Week: Proven Time Management Strategies for Busy Business Leaders
DESCRIPTION:Getting everything done can feel daunting or even impossible at times. But it doesn't have to be that way. Join Bil Toschi\, a Business Development Expert with Envizion Practice Solutions\, and Bradley Saribekian\, a Certified Business & Leadership Coach with Focal Point Business Coaching\, as they share tools and strategies to reclaim your time\, freeing you up to spend time on what matters most.\n\n\n\nAttendees will walk away with a powerful framework to reclaim control of their time and boost productivity\, saving 10 - 15 hours each workweek. They will learn how to organize and prioritize tasks quickly\, delegate effectively without sacrificing quality or control\, and harness cutting-edge technology to optimize their workflows. By implementing these strategies\, participants can reduce being overwhelmed or burned out\, free up valuable time for high-impact activities\, and achieve their goals with greater precision and focus.\n\n\n\nRegister now for this FREE Lunch & Learn\, sponsored Envizion Practice Solutions and Focal Point Business Coaching: https://bit.ly/3MBhGzN
X-ALT-DESC;FMTTYPE=text/html:<span style="color:rgb(35\, 35\, 51)\; font-family:helvetica neue\,helvetica\,arial\,sans-serif\; font-size:14px">Getting everything done can feel daunting or even impossible at times. But it doesn&rsquo\;t have to be that way. Join Bil Toschi\, a Business Development Expert with Envizion Practice Solutions\, and Bradley Saribekian\, a Certified Business &amp\; Leadership Coach with Focal Point Business Coaching\, as they share tools and strategies to reclaim your time\, freeing you up to spend time on what matters most.</span><br />\n<br />\n<span style="color:rgb(35\, 35\, 51)\; font-family:helvetica neue\,helvetica\,arial\,sans-serif\; font-size:14px">Attendees will walk away with a powerful framework to reclaim control of their time and boost productivity\, saving 10 - 15 hours each workweek. They will learn how to organize and prioritize tasks quickly\, delegate effectively without sacrificing quality or control\, and harness cutting-edge technology to optimize their workflows. By implementing these strategies\, participants can reduce being overwhelmed or burned out\, free up valuable time for high-impact activities\, and achieve their goals with greater precision and focus.<br />\n<br />\nRegister now for this FREE Lunch &amp\; Learn\, sponsored Envizion Practice Solutions and Focal Point Business Coaching:</span><span style="color:rgb(35\, 35\, 51)\; font-family:helvetica neue\,helvetica\,arial\,sans-serif\; font-size:14px">&nbsp\;</span><a href="https://bit.ly/3MBhGzN" style="color: rgb(0\, 120\, 215)\; font-family: Aptos\, sans-serif\; font-size: 14.666667px\;" title="https://bit.ly/3MBhGzN">https://bit.ly/3MBhGzN</a>
LOCATION:Zoom. Registration Required: https://bit.ly/3MBhGzN
UID:e.897.6477
SEQUENCE:3
DTSTAMP:20260420T194659Z
URL:https://members.crossroadschamber.org/events/details/reclaim-10-hours-a-week-proven-time-management-strategies-for-busy-business-leaders-6477
END:VEVENT

END:VCALENDAR
