BEGIN:VCALENDAR
VERSION:2.0
PRODID:-//ChamberMaster//Event Calendar 2.0//EN
METHOD:PUBLISH
X-PUBLISHED-TTL:P3D
REFRESH-INTERVAL:P3D
CALSCALE:GREGORIAN
BEGIN:VEVENT
DTSTART:20240821T210000Z
DTEND:20240821T230000Z
X-MICROSOFT-CDO-ALLDAYEVENT:FALSE
SUMMARY:REGIONAL Federal Credit Union Ribbon Cutting and Business After Hours
DESCRIPTION:Join us at the new REGIONAL Federal Credit Union in Winfield for Business After Hours and Ribbon Cutting. \n\n\n\nThere will be local business and community leaders present\, light appetizers\, and refreshments.\n\n \n\nBusiness after-hours events is a welcoming space for networking and growth\, fostering new partnerships and strengthening existing relationships among professionals from diverse industries.
X-ALT-DESC;FMTTYPE=text/html:<span style="font-size:18px\;">Join us at the new REGIONAL Federal Credit Union in Winfield&nbsp\;for Business After Hours and Ribbon Cutting.&nbsp\;<br />\n<br />\nThere will be local business and community leaders present\, light appetizers\, and refreshments.<br />\n&nbsp\;<br />\nBusiness after-hours events is a welcoming space for networking and growth\, fostering new partnerships and strengthening existing relationships among professionals from diverse industries.</span>
LOCATION:10909 Randolph St. Winfield\, IN 46307
UID:e.897.6434
SEQUENCE:3
DTSTAMP:20260421T010122Z
URL:https://members.crossroadschamber.org/events/details/regional-federal-credit-union-ribbon-cutting-and-business-after-hours-6434
END:VEVENT

END:VCALENDAR
