BEGIN:VCALENDAR
VERSION:2.0
PRODID:-//ChamberMaster//Event Calendar 2.0//EN
METHOD:PUBLISH
X-PUBLISHED-TTL:P3D
REFRESH-INTERVAL:P3D
CALSCALE:GREGORIAN
BEGIN:VEVENT
DTSTART;VALUE=DATE:20250915
DTEND;VALUE=DATE:20250916
TRANSP:TRANSPARENT
X-MICROSOFT-CDO-ALLDAYEVENT:TRUE
SUMMARY:Return to Learn
DESCRIPTION:Boys & Girls Clubs of Greater Northwest Indiana (BGCGNWI) announces the launch of its annual "Return to Learn" match campaign\, running September 1-30. This month-long initiative challenges each of the organization's nine Clubs to unite their communities and raise vital funds for nearly 8\,500 Club kids across the region.\n\n \n\nThanks to the generosity of the University of Chicago Medicine\, every donation made during the campaign will be matched dollar for dollar up to $100\,000. This crucial support doubles the impact of contributions\, directly fueling BGCGNWI's mission. During last year's campaign\, the community rallied to raise a grand total of $211\,799\, which is more than double the match goal and a 50% increase over 2023's proceeds. This year\, BGCGNWI aims to surpass last year's total and empower even more young people through comprehensive programs and services that support the whole child\, with a focus on nurturing academic success\, health and wellness\, character development\, and career readiness.
X-ALT-DESC;FMTTYPE=text/html:<p><span style="font-family:aptos\,sans-serif">Boys &amp\; Girls Clubs of Greater Northwest Indiana (BGCGNWI) announces the launch of its annual &quot\;Return to Learn&quot\; match campaign\, running September 1-30. This month-long initiative challenges each of the organization&#39\;s nine Clubs to unite their communities and raise vital funds for nearly 8\,500 Club kids across the region.</span></p>\n\n<p><span style="font-family:aptos\,sans-serif">&nbsp\;</span></p>\n\n<p><span style="font-family:aptos\,sans-serif">Thanks to the generosity of the University of Chicago Medicine\, every donation made during the campaign will be matched dollar for dollar up to $100\,000. This crucial support doubles the impact of contributions\, directly fueling BGCGNWI&#39\;s mission. During last year&rsquo\;s campaign\, the community rallied to raise a grand total of $211\,799\, which is more than double the match goal and a 50% increase over 2023&rsquo\;s proceeds. This year\, BGCGNWI aims to surpass last year&rsquo\;s total and empower even more young people through comprehensive programs and services that support the whole child\, with a focus on nurturing academic success\, health and wellness\, character development\, and career readiness.</span></p>\n
LOCATION:Throughout Lake & Porter Counties
UID:e.897.7200
SEQUENCE:3
DTSTAMP:20260419T232922Z
URL:https://members.crossroadschamber.org/events/details/return-to-learn-09-15-2025-7200
END:VEVENT

END:VCALENDAR
