BEGIN:VCALENDAR
VERSION:2.0
PRODID:-//ChamberMaster//Event Calendar 2.0//EN
METHOD:PUBLISH
X-PUBLISHED-TTL:P3D
REFRESH-INTERVAL:P3D
CALSCALE:GREGORIAN
BEGIN:VEVENT
DTSTART:20220804T170000Z
DTEND:20220804T180000Z
X-MICROSOFT-CDO-ALLDAYEVENT:FALSE
SUMMARY:Ribbon Cutting
DESCRIPTION:Shelter Insurance -- Michael Adams\n\nRefreshments\, Hors D'oeuvres and Sparkling White Grape Juice will be served.\n\nRibbon Cutting at Noon.
X-ALT-DESC;FMTTYPE=text/html:Shelter Insurance -- Michael Adams<br />\nRefreshments\, Hors D&#39\;oeuvres and Sparkling White Grape Juice will be served.<br />\nRibbon Cutting at Noon.
LOCATION:1119 Merrillville Road Crown Point\, IN 46307
UID:e.897.4526
SEQUENCE:3
DTSTAMP:20260424T174934Z
URL:https://members.crossroadschamber.org/events/details/ribbon-cutting-4526
END:VEVENT

END:VCALENDAR
