BEGIN:VCALENDAR
VERSION:2.0
PRODID:-//ChamberMaster//Event Calendar 2.0//EN
METHOD:PUBLISH
X-PUBLISHED-TTL:P3D
REFRESH-INTERVAL:P3D
CALSCALE:GREGORIAN
BEGIN:VEVENT
DTSTART:20220805T170000Z
DTEND:20220805T180000Z
X-MICROSOFT-CDO-ALLDAYEVENT:FALSE
SUMMARY:Ribbon Cutting
DESCRIPTION:DMZ Productions\n\nFood\, Pop-A-Shot Contest\, Free Business Headshots\, and more.\n\nRibbon Cutting at Noon
X-ALT-DESC;FMTTYPE=text/html:DMZ Productions<br />\nFood\, Pop-A-Shot Contest\, Free Business Headshots\, and more.<br />\nRibbon Cutting at Noon
LOCATION:1110 Arrowhead Court Suite D Crown Point\, IN 46307
UID:e.897.4527
SEQUENCE:3
DTSTAMP:20260424T174941Z
URL:https://members.crossroadschamber.org/events/details/ribbon-cutting-4527
END:VEVENT

END:VCALENDAR
