BEGIN:VCALENDAR
VERSION:2.0
PRODID:-//ChamberMaster//Event Calendar 2.0//EN
METHOD:PUBLISH
X-PUBLISHED-TTL:P3D
REFRESH-INTERVAL:P3D
CALSCALE:GREGORIAN
BEGIN:VEVENT
DTSTART:20220830T213000Z
DTEND:20220831T010000Z
X-MICROSOFT-CDO-ALLDAYEVENT:FALSE
SUMMARY:Ribbon Cutting
DESCRIPTION:Join us as we welcome Back in Motion Sports & Chiropractic\, LLC!
X-ALT-DESC;FMTTYPE=text/html:Join us as we welcome Back in Motion Sports &amp\; Chiropractic\, LLC!
LOCATION:Back in Motion Sports & Chiropractic\, LLC 7895 Broadway\, Suite E Merrillville\, IN 46410
UID:e.897.4542
SEQUENCE:3
DTSTAMP:20260424T174935Z
URL:https://members.crossroadschamber.org/events/details/ribbon-cutting-4542
END:VEVENT

END:VCALENDAR
