BEGIN:VCALENDAR
VERSION:2.0
PRODID:-//ChamberMaster//Event Calendar 2.0//EN
METHOD:PUBLISH
X-PUBLISHED-TTL:P3D
REFRESH-INTERVAL:P3D
CALSCALE:GREGORIAN
BEGIN:VEVENT
DTSTART:20220914T160000Z
DTEND:20220914T180000Z
X-MICROSOFT-CDO-ALLDAYEVENT:FALSE
SUMMARY:Ribbon Cutting
DESCRIPTION:Join us for a Ribbon Cutting at New Beginnings Clubhouse!
X-ALT-DESC;FMTTYPE=text/html:Join us for a Ribbon Cutting at New Beginnings Clubhouse!
LOCATION:New Beginnings Clubhouse 107 West 79th Avenue Merrillville\, IN 46410
UID:e.897.4543
SEQUENCE:3
DTSTAMP:20260424T161525Z
URL:https://members.crossroadschamber.org/events/details/ribbon-cutting-4543
END:VEVENT

END:VCALENDAR
