BEGIN:VCALENDAR
VERSION:2.0
PRODID:-//ChamberMaster//Event Calendar 2.0//EN
METHOD:PUBLISH
X-PUBLISHED-TTL:P3D
REFRESH-INTERVAL:P3D
CALSCALE:GREGORIAN
BEGIN:VEVENT
DTSTART:20220915T210000Z
DTEND:20220915T230000Z
X-MICROSOFT-CDO-ALLDAYEVENT:FALSE
SUMMARY:Ribbon Cutting
DESCRIPTION:Join us at Nothing Bundt Cakes for a ribbon cutting and open house!
X-ALT-DESC;FMTTYPE=text/html:Join us at Nothing Bundt Cakes for a ribbon cutting and open house!
LOCATION:Nothing Bundt Cakes 2781 East 81st Avenue Merrillville\, IN 46410
UID:e.897.4553
SEQUENCE:3
DTSTAMP:20260424T174942Z
URL:https://members.crossroadschamber.org/events/details/ribbon-cutting-4553
END:VEVENT

END:VCALENDAR
