BEGIN:VCALENDAR
VERSION:2.0
PRODID:-//ChamberMaster//Event Calendar 2.0//EN
METHOD:PUBLISH
X-PUBLISHED-TTL:P3D
REFRESH-INTERVAL:P3D
CALSCALE:GREGORIAN
BEGIN:VEVENT
DTSTART:20221005T230000Z
DTEND:20221006T000000Z
X-MICROSOFT-CDO-ALLDAYEVENT:FALSE
SUMMARY:Ribbon Cutting
DESCRIPTION:Grand Reopening & Ribbon Cutting\n\nPinnacle Hospital\n\nComprehensive Women's Health & Breast Center
X-ALT-DESC;FMTTYPE=text/html:Grand Reopening &amp\; Ribbon Cutting<br />\nPinnacle Hospital<br />\nComprehensive Women&#39\;s Health &amp\; Breast Center
LOCATION:Pinnacle Hospital 9301 Connecticut Drive Crown Point\, IN 46307
UID:e.897.4557
SEQUENCE:3
DTSTAMP:20260424T142659Z
URL:https://members.crossroadschamber.org/events/details/ribbon-cutting-4557
END:VEVENT

END:VCALENDAR
