BEGIN:VCALENDAR
VERSION:2.0
PRODID:-//ChamberMaster//Event Calendar 2.0//EN
METHOD:PUBLISH
X-PUBLISHED-TTL:P3D
REFRESH-INTERVAL:P3D
CALSCALE:GREGORIAN
BEGIN:VEVENT
DTSTART:20221208T180000Z
DTEND:20221208T200000Z
X-MICROSOFT-CDO-ALLDAYEVENT:FALSE
SUMMARY:Ribbon Cutting
DESCRIPTION:Village Medical\n\n10795 Broadway \n\nCrown Point\, IN 46307
X-ALT-DESC;FMTTYPE=text/html:Village Medical<br />\n10795 Broadway&nbsp\;<br />\nCrown Point\, IN 46307&nbsp\;&nbsp\;&nbsp\;&nbsp\;
LOCATION:
UID:e.897.4566
SEQUENCE:3
DTSTAMP:20260424T123022Z
URL:https://members.crossroadschamber.org/events/details/ribbon-cutting-4566
END:VEVENT

END:VCALENDAR
