BEGIN:VCALENDAR
VERSION:2.0
PRODID:-//ChamberMaster//Event Calendar 2.0//EN
METHOD:PUBLISH
X-PUBLISHED-TTL:P3D
REFRESH-INTERVAL:P3D
CALSCALE:GREGORIAN
BEGIN:VEVENT
DTSTART:20221116T173000Z
DTEND:20221116T180000Z
X-MICROSOFT-CDO-ALLDAYEVENT:FALSE
SUMMARY:Ribbon Cutting
DESCRIPTION:Join us for a ribbon cutting at Forever Young Sports Cards' new location!  Refreshments\, giveaways\, networking and more!
X-ALT-DESC;FMTTYPE=text/html:Join us for a ribbon cutting at Forever Young Sports Cards&#39\; new location!&nbsp\; Refreshments\, giveaways\, networking and more!
LOCATION:Forever Young Sports Cards 166 South West Street Crown Point\, IN 46307
UID:e.897.4568
SEQUENCE:3
DTSTAMP:20260424T123753Z
URL:https://members.crossroadschamber.org/events/details/ribbon-cutting-4568
END:VEVENT

END:VCALENDAR
