BEGIN:VCALENDAR
VERSION:2.0
PRODID:-//ChamberMaster//Event Calendar 2.0//EN
METHOD:PUBLISH
X-PUBLISHED-TTL:P3D
REFRESH-INTERVAL:P3D
CALSCALE:GREGORIAN
BEGIN:VEVENT
DTSTART:20221122T160000Z
DTEND:20221122T170000Z
X-MICROSOFT-CDO-ALLDAYEVENT:FALSE
SUMMARY:Ribbon Cutting
DESCRIPTION:Join us at Orean Beauty for a ribbon cutting!
X-ALT-DESC;FMTTYPE=text/html:Join us at Orean Beauty for a ribbon cutting!
LOCATION:Orean Beauty 1931 Northwind Parkway Hobart\, IN 46342
UID:e.897.4569
SEQUENCE:3
DTSTAMP:20260424T123833Z
URL:https://members.crossroadschamber.org/events/details/ribbon-cutting-4569
END:VEVENT

END:VCALENDAR
