BEGIN:VCALENDAR
VERSION:2.0
PRODID:-//ChamberMaster//Event Calendar 2.0//EN
METHOD:PUBLISH
X-PUBLISHED-TTL:P3D
REFRESH-INTERVAL:P3D
CALSCALE:GREGORIAN
BEGIN:VEVENT
DTSTART:20221214T183000Z
DTEND:20221214T193000Z
X-MICROSOFT-CDO-ALLDAYEVENT:FALSE
SUMMARY:Ribbon Cutting
DESCRIPTION:Join us at a ribbon cutting for Modern Woodmen of America Becca Boyd!
X-ALT-DESC;FMTTYPE=text/html:Join us at a ribbon cutting for Modern Woodmen of America Becca Boyd!
LOCATION:Modern Woodmen of America 6 East 67th Avenue Merrillville\, IN 46410
UID:e.897.4571
SEQUENCE:3
DTSTAMP:20260424T122816Z
URL:https://members.crossroadschamber.org/events/details/ribbon-cutting-4571
END:VEVENT

END:VCALENDAR
