BEGIN:VCALENDAR
VERSION:2.0
PRODID:-//ChamberMaster//Event Calendar 2.0//EN
METHOD:PUBLISH
X-PUBLISHED-TTL:P3D
REFRESH-INTERVAL:P3D
CALSCALE:GREGORIAN
BEGIN:VEVENT
DTSTART:20221205T170000Z
DTEND:20221205T190000Z
X-MICROSOFT-CDO-ALLDAYEVENT:FALSE
SUMMARY:Ribbon Cutting
DESCRIPTION:Join us for a ribbon cutting at DSHAIC!
X-ALT-DESC;FMTTYPE=text/html:Join us for a ribbon cutting at DSHAIC!
LOCATION:DSHAIC 5164 East 81st Avenue Suite 46 Merrillville\, IN 46410
UID:e.897.4572
SEQUENCE:3
DTSTAMP:20260424T105728Z
URL:https://members.crossroadschamber.org/events/details/ribbon-cutting-4572
END:VEVENT

END:VCALENDAR
