BEGIN:VCALENDAR
VERSION:2.0
PRODID:-//ChamberMaster//Event Calendar 2.0//EN
METHOD:PUBLISH
X-PUBLISHED-TTL:P3D
REFRESH-INTERVAL:P3D
CALSCALE:GREGORIAN
BEGIN:VEVENT
DTSTART:20221118T160000Z
DTEND:20221118T180000Z
X-MICROSOFT-CDO-ALLDAYEVENT:FALSE
SUMMARY:Ribbon Cutting
DESCRIPTION:Join us for a ribbon cutting at Saturday Sangria Bakery & Cafe!
X-ALT-DESC;FMTTYPE=text/html:Join us for a ribbon cutting at Saturday Sangria Bakery &amp\; Cafe!
LOCATION:Saturday Sangria Bakery & Cafe 10719 Randolph Street Winfield\, IN 46307
UID:e.897.4573
SEQUENCE:3
DTSTAMP:20260424T140902Z
URL:https://members.crossroadschamber.org/events/details/ribbon-cutting-4573
END:VEVENT

END:VCALENDAR
