BEGIN:VCALENDAR
VERSION:2.0
PRODID:-//ChamberMaster//Event Calendar 2.0//EN
METHOD:PUBLISH
X-PUBLISHED-TTL:P3D
REFRESH-INTERVAL:P3D
CALSCALE:GREGORIAN
BEGIN:VEVENT
DTSTART:20220608T220000Z
DTEND:20220609T010000Z
X-MICROSOFT-CDO-ALLDAYEVENT:FALSE
SUMMARY:Ribbon Cutting at Crosscountry Mortgage
DESCRIPTION:Festivities kick off at 5:00pm until 8:00pm. \n\nRibbon cutting at 5:30pm.\n\nEntertainment\, food\, drinks\, giveaways\, more!\n\nLive music by Frank Ruvoli\n\nA magical evening for all!
X-ALT-DESC;FMTTYPE=text/html:Festivities kick off at 5:00pm until 8:00pm.&nbsp\;<br />\nRibbon cutting at 5:30pm.<br />\nEntertainment\, food\, drinks\, giveaways\, more!<br />\nLive music by Frank Ruvoli<br />\nA magical evening for all!
LOCATION:Crosscountry Mortgage 233 East 84th Drive Merrillville\, IN 46410
UID:e.897.4506
SEQUENCE:3
DTSTAMP:20260424T210855Z
URL:https://members.crossroadschamber.org/events/details/ribbon-cutting-at-crosscountry-mortgage-4506
END:VEVENT

END:VCALENDAR
