BEGIN:VCALENDAR
VERSION:2.0
PRODID:-//ChamberMaster//Event Calendar 2.0//EN
METHOD:PUBLISH
X-PUBLISHED-TTL:P3D
REFRESH-INTERVAL:P3D
CALSCALE:GREGORIAN
BEGIN:VEVENT
DTSTART:20220721T160000Z
DTEND:20220721T180000Z
X-MICROSOFT-CDO-ALLDAYEVENT:FALSE
SUMMARY:Ribbon Cutting at the Region Cat Cafe
DESCRIPTION:Open House 11am-1pm\n\nRibbon Cutting at Noon
X-ALT-DESC;FMTTYPE=text/html:Open House 11am-1pm<br />\nRibbon Cutting at Noon
LOCATION:The Region Cat Cafe 281 West 80th Place Merrillville\, IN 46410
UID:e.897.4516
SEQUENCE:3
DTSTAMP:20260424T195127Z
URL:https://members.crossroadschamber.org/events/details/ribbon-cutting-at-the-region-cat-cafe-4516
END:VEVENT

END:VCALENDAR
